BEGIN:VCALENDAR
VERSION:2.0
PRODID:icalendar-ruby
CALSCALE:GREGORIAN
METHOD:PUBLISH
BEGIN:VEVENT
DTSTAMP:20260423T120619Z
UID:90-512281@northridgegi.church
DTSTART:20260502T143000Z
DTEND:20260502T160000Z
CLASS:PUBLIC
CREATED:20260407T121434
DESCRIPTION:
LAST-MODIFIED:20260407T121434
LOCATION:
SUMMARY:Annual Tea Party
URL;VALUE=URI:https://www.northridgegi.church/events/annual-tea-party/2026-
 05-02
ATTACH;FILENAME=Annual-Tea-Party-1640-x-924-px.png;FMTTYPE=image/png:https:
 //dq5pwpg1q8ru0.cloudfront.net/2026/04/06/22/19/19/a09fb948-ef50-479b-9b48
 -44ed06b4d758/Annual-Tea-Party-1640-x-924-px.png
END:VEVENT
END:VCALENDAR
